BEGIN:VCALENDAR
VERSION:2.0
PRODID:-//http://www.itwatch.de//
METHOD:PUBLISH
BEGIN:VEVENT
UID:20260420T200705Z@http://www.itwatch.de/
DTSTAMP:20260420T200705Z
DESCRIPTION:\;
DTSTART:20260506T110000Z
DTEND:20260507T190000Z
LOCATION:Berlin
SUMMARY:EPK 2026
END:VEVENT
END:VCALENDAR
