BEGIN:VCALENDAR
VERSION:2.0
PRODID:-//http://www.itwatch.de//
METHOD:PUBLISH
BEGIN:VEVENT
UID:20260421T131438Z@http://www.itwatch.de/
DTSTAMP:20260421T131438Z
DESCRIPTION:\;
DTSTART:20241128T141500Z
DTEND:20241128T153000Z
LOCATION:Berlin
SUMMARY:Zukunftsforum 
END:VEVENT
END:VCALENDAR
