BEGIN:VCALENDAR
VERSION:2.0
PRODID:-//http://www.itwatch.de//
METHOD:PUBLISH
BEGIN:VEVENT
UID:20260421T133523Z@http://www.itwatch.de/
DTSTAMP:20260421T133523Z
DESCRIPTION:\;
DTSTART:20240626T110000Z
DTEND:20240627T190000Z
LOCATION:Bonn
SUMMARY:AFCEA 24
END:VEVENT
END:VCALENDAR
