BEGIN:VCALENDAR
VERSION:2.0
PRODID:-//http://www.itwatch.de//
METHOD:PUBLISH
BEGIN:VEVENT
UID:20260420T195417Z@http://www.itwatch.de/
DTSTAMP:20260420T195417Z
DESCRIPTION:\;
DTSTART:20260629T110000Z
DTEND:20260630T190000Z
LOCATION:Berlin
SUMMARY:BER Kongress 26
END:VEVENT
END:VCALENDAR
