BEGIN:VCALENDAR
VERSION:2.0
PRODID:-//http://www.itwatch.de//
METHOD:PUBLISH
BEGIN:VEVENT
UID:20260421T133402Z@http://www.itwatch.de/
DTSTAMP:20260421T133402Z
DESCRIPTION:5. Konvent zur Digitalen Konvergenz in der Sicherheits- und Verteidigungsindustrie mit der AFCEA Bonn und dem BDSVhttps://www.afcea.de/veranstaltungen/sonderveranstaltungen/261021-gemeinsame-veranstaltung-mit-bdsv-1.html\;
DTSTART:20230919T110000Z
DTEND:20230919T200000Z
LOCATION:Berlin
SUMMARY:Konvergenz2023
END:VEVENT
END:VCALENDAR
