BEGIN:VCALENDAR
VERSION:2.0
PRODID:-//http://www.itwatch.de//
METHOD:PUBLISH
BEGIN:VEVENT
UID:20260421T130956Z@http://www.itwatch.de/
DTSTAMP:20260421T130956Z
DESCRIPTION:Die Deutsche Gesellschaft für Wehrtechnik e. V. versteht sich als&nbsp;neutrale Dialog- und Informationsplattform im Spannungsfeld von Bundeswehr\, Forschung\, Wirtschaft\, Politik und Gesellschaft.https://veranstaltungen.dwt-sgw.de/?v=98\;
DTSTART:20231023T110000Z
DTEND:20231024T200000Z
LOCATION:Bonn
SUMMARY:CDC 2023
END:VEVENT
END:VCALENDAR
