BEGIN:VCALENDAR
VERSION:2.0
PRODID:-//http://www.itwatch.de//
METHOD:PUBLISH
BEGIN:VEVENT
UID:20260425T202639Z@http://www.itwatch.de/
DTSTAMP:20260425T202639Z
DESCRIPTION:\;
DTSTART:20260714T110000Z
DTEND:20260715T180000Z
LOCATION:München
SUMMARY:Code 26
END:VEVENT
END:VCALENDAR
