BEGIN:VCALENDAR
VERSION:2.0
PRODID:-//http://www.itwatch.de//
METHOD:PUBLISH
BEGIN:VEVENT
UID:20260423T200816Z@http://www.itwatch.de/
DTSTAMP:20260423T200816Z
DESCRIPTION:Best Practice Dialog: Ramon Mörl\, itWatch GmbH:&nbsp;https://www.wehrhafte-demokratie.info/de/node/6725\;
DTSTART:20230626T110000Z
DTEND:20230628T180000Z
LOCATION:Berlin
SUMMARY: 5.Berliner Kongress
END:VEVENT
END:VCALENDAR
