BEGIN:VCALENDAR
VERSION:2.0
PRODID:-//http://www.itwatch.de//
METHOD:PUBLISH
BEGIN:VEVENT
UID:20260423T200650Z@http://www.itwatch.de/
DTSTAMP:20260423T200650Z
DESCRIPTION:Deutor unterstützt Unternehmen und Behörden bei der Identifizierung ihrer kritischen Geschäftsstrukturen\, Prozesse und Systeme\, ihren Schwachstellen bei Cyber-Attacken und definieren geeignete Sicherheitsmaßnahmen.https://deutor.de/conference/\;
DTSTART:20230629T110000Z
DTEND:20230629T200000Z
LOCATION:Bonn
SUMMARY:4.Deutor Conference
END:VEVENT
END:VCALENDAR
