BEGIN:VCALENDAR
VERSION:2.0
PRODID:-//http://www.itwatch.de//
METHOD:PUBLISH
BEGIN:VEVENT
UID:20260422T081441Z@http://www.itwatch.de/
DTSTAMP:20260422T081441Z
DESCRIPTION:\;
DTSTART:20261027T100000Z
DTEND:20261029T180000Z
LOCATION:Nürnberg
SUMMARY:it-sa 2026
END:VEVENT
END:VCALENDAR
