BEGIN:VCALENDAR
VERSION:2.0
PRODID:-//http://www.itwatch.de//
METHOD:PUBLISH
BEGIN:VEVENT
UID:20260423T231154Z@http://www.itwatch.de/
DTSTAMP:20260423T231154Z
DESCRIPTION:https://www.gpecdigital.com/\;
DTSTART:20230426T110000Z
DTEND:20230427T200000Z
LOCATION:Frankfurt
SUMMARY:GPEC 2023
END:VEVENT
END:VCALENDAR
