BEGIN:VCALENDAR
VERSION:2.0
PRODID:-//http://www.itwatch.de//
METHOD:PUBLISH
BEGIN:VEVENT
UID:20260423T231031Z@http://www.itwatch.de/
DTSTAMP:20260423T231031Z
DESCRIPTION:Die HANNOVER MESSE ist die international wichtigste Plattform für alle Technologien rund um die industrielle Transformation - mit ausgezeichneten Innovationen oder ungewöhnlichen Produkten.&nbsp;NEU: &quot;Gemeinsschaftsstand Industrial Security Circus&quot;https://www.hannovermesse.de/de/hannover-messe-2023/\;
DTSTART:20230417T110000Z
DTEND:20230421T200000Z
LOCATION:Hannover
SUMMARY:HMI 2023
END:VEVENT
END:VCALENDAR
