BEGIN:VCALENDAR
VERSION:2.0
PRODID:-//http://www.itwatch.de//
METHOD:PUBLISH
BEGIN:VEVENT
UID:20260423T214819Z@http://www.itwatch.de/
DTSTAMP:20260423T214819Z
DESCRIPTION:„Digital sicher in eine nachhaltige Zukunft&quot;&nbsp;https://www.bsi.bund.de/DE/Service-Navi/Veranstaltungen/Deutscher-IT-Sicherheitskongress/19-Dt-IT-Sicherheitskongress/19-dt-IT-Sicherheitskongress_node.html\;
DTSTART:20230510T110000Z
DTEND:20230511T190000Z
LOCATION:Digital
SUMMARY:BSI 2023
END:VEVENT
END:VCALENDAR
