BEGIN:VCALENDAR
VERSION:2.0
PRODID:-//http://www.itwatch.de//
METHOD:PUBLISH
BEGIN:VEVENT
UID:20260424T023326Z@http://www.itwatch.de/
DTSTAMP:20260424T023326Z
DESCRIPTION:Munich Cyber Security Conferencehttps://it-security-munich.net/mcsc-2023/\;
DTSTART:20230216T150000Z
DTEND:20230216T193000Z
LOCATION:München
SUMMARY:mcsc_2023
END:VEVENT
END:VCALENDAR
