BEGIN:VCALENDAR
VERSION:2.0
PRODID:-//http://www.itwatch.de//
METHOD:PUBLISH
BEGIN:VEVENT
UID:20260424T063108Z@http://www.itwatch.de/
DTSTAMP:20260424T063108Z
DESCRIPTION:30.11. 2022 | 10:00 – 10:45 Uhr | Thorsten Flügel Vortrag „Wovor muss die IT die Anwender schützen?“\;
DTSTART:20221130T100000Z
DTEND:20221130T131500Z
LOCATION:Digital
SUMMARY:Fujitsu Next 
END:VEVENT
END:VCALENDAR
