BEGIN:VCALENDAR
VERSION:2.0
PRODID:-//http://www.itwatch.de//
METHOD:PUBLISH
BEGIN:VEVENT
UID:20260424T063201Z@http://www.itwatch.de/
DTSTAMP:20260424T063201Z
DESCRIPTION:Ramon Mörl\, Geschäftsführer der itWatch: Keynote und Panel-Moderation „Cybersecurity Market: Cooperation\, Innovation\, and Investment Strategies”https://www.enisa.europa.eu/events/cybersecurity-market-conference\;
DTSTART:20221123T144500Z
DTEND:20221124T184000Z
LOCATION:Brüssel
SUMMARY:ENISA
END:VEVENT
END:VCALENDAR
