BEGIN:VCALENDAR
VERSION:2.0
PRODID:-//http://www.itwatch.de//
METHOD:PUBLISH
BEGIN:VEVENT
UID:20260424T091500Z@http://www.itwatch.de/
DTSTAMP:20260424T091500Z
DESCRIPTION:\;
DTSTART:20220928T110000Z
DTEND:20220928T200000Z
LOCATION:Bregenz
SUMMARY:itSec_Cyber_Crime
END:VEVENT
END:VCALENDAR
