BEGIN:VCALENDAR
VERSION:2.0
PRODID:-//http://www.itwatch.de//
METHOD:PUBLISH
BEGIN:VEVENT
UID:20260424T091501Z@http://www.itwatch.de/
DTSTAMP:20260424T091501Z
DESCRIPTION:Ziel der Konferenz ist die Fortbildung von IT-Sicherheitsexperten aus unterschiedlichen Bereichen. Die IKT-Sicherheitskonferenz bietet den Teilnehmern außerdem die Möglichkeit\, sich auszutauschen und fachübergreifend Kontakte zu knüpfen.https://seminar.bundesheer.at/\;
DTSTART:20220914T110000Z
DTEND:20220915T190000Z
LOCATION:Congress Center Wien
SUMMARY:IKT 2022
END:VEVENT
END:VCALENDAR
